BEGIN:VCALENDAR
VERSION:2.0
PRODID:-//Sabre//Sabre VObject 4.5.8//EN
CALSCALE:GREGORIAN
BEGIN:VEVENT
UID:sabre-vobject-66304ab4-40cc-49b4-90fb-371a9327fa66
DTSTAMP:20260425T220700Z
SUMMARY:Heilige Messe
DESCRIPTION:https://pfarreien-bistum-augsburg.df-preview.de/heilige-messe_i
 d1695844
DTSTART;TZID=Europe/Berlin:20260322T083000
DURATION:PT30M
LOCATION:St. Anna
END:VEVENT
END:VCALENDAR
