BEGIN:VCALENDAR
VERSION:2.0
PRODID:-//Sabre//Sabre VObject 4.5.8//EN
CALSCALE:GREGORIAN
BEGIN:VEVENT
UID:sabre-vobject-6ee2fda8-cc7e-4b8e-8aaf-19ada87e576d
DTSTAMP:20260424T041214Z
SUMMARY:Kreuzweg mit der Gruppe Adonai und eucharistischer Anbetung
DESCRIPTION:https://pfarreien-bistum-augsburg.df-preview.de/kreuzweg-mit-de
 r-gruppe-adonai-und-eucharistischer-anbetung_id1695627
DTSTART;TZID=Europe/Berlin:20260329T190000
DURATION:PT30M
LOCATION:St. Felizitas
END:VEVENT
END:VCALENDAR
