BEGIN:VCALENDAR
VERSION:2.0
PRODID:-//Sabre//Sabre VObject 4.5.8//EN
CALSCALE:GREGORIAN
BEGIN:VEVENT
UID:sabre-vobject-0d203c01-a405-4b7a-ba85-c05a47902203
DTSTAMP:20260424T112715Z
SUMMARY:Pfarrgottesdienst musik. gest. v. d. Stadtkapelle
DESCRIPTION:https://pfarreien-bistum-augsburg.df-preview.de/pfarrgottesdien
 st-musik-gest-v-d-stadtkapelle_id1695624
DTSTART;TZID=Europe/Berlin:20260329T090000
DURATION:PT30M
LOCATION:St. Felizitas
END:VEVENT
END:VCALENDAR
