BEGIN:VCALENDAR
VERSION:2.0
PRODID:-//Sabre//Sabre VObject 4.5.8//EN
CALSCALE:GREGORIAN
BEGIN:VEVENT
UID:sabre-vobject-9ae173a8-2086-4091-9e89-def4fce8a6c5
DTSTAMP:20260423T155033Z
SUMMARY:Kinderkreuzweg gest. vom Fago
DESCRIPTION:https://pfarreien-bistum-augsburg.df-preview.de/kinderkreuzweg-
 gest-vom-fago_id1695611
DTSTART;TZID=Europe/Berlin:20260403T103000
DURATION:PT30M
LOCATION:St. Felizitas
END:VEVENT
END:VCALENDAR
