BEGIN:VCALENDAR
VERSION:2.0
PRODID:-//Sabre//Sabre VObject 4.5.8//EN
CALSCALE:GREGORIAN
BEGIN:VEVENT
UID:sabre-vobject-c4166dcc-cb67-4aac-8861-98956481b6d6
DTSTAMP:20260423T194211Z
SUMMARY:Kreuzweg
DESCRIPTION:https://pfarreien-bistum-augsburg.df-preview.de/kreuzweg_id1695
 610
DTSTART;TZID=Europe/Berlin:20260403T090000
DURATION:PT30M
LOCATION:St. Felizitas
END:VEVENT
END:VCALENDAR
