BEGIN:VCALENDAR
VERSION:2.0
PRODID:-//Sabre//Sabre VObject 4.5.8//EN
CALSCALE:GREGORIAN
BEGIN:VEVENT
UID:sabre-vobject-1286be9c-f8e8-40ac-b78f-78b0e17ad2dd
DTSTAMP:20260424T143721Z
SUMMARY:Kolpingsfamilie Meitingen e.V.: Jahreshauptversammlung mit turnusm
 äßigen Neuwahlen
DESCRIPTION:https://pfarreien-bistum-augsburg.df-preview.de/kolpingsfamilie
 -meitingen-e-v-jahreshauptversammlung-mit-turnusmaessigen-neuwahlen_id1695
 587
DTSTART;TZID=Europe/Berlin:20260322T110000
DURATION:PT30M
LOCATION:St. Wolfgang
END:VEVENT
END:VCALENDAR
