BEGIN:VCALENDAR
VERSION:2.0
PRODID:-//Sabre//Sabre VObject 4.5.8//EN
CALSCALE:GREGORIAN
BEGIN:VEVENT
UID:sabre-vobject-96bfae02-007f-4090-833b-d06c6f0c0aba
DTSTAMP:20260423T132943Z
SUMMARY:Bußgottesdienst: "Abend der Versöhnung" für die Pfarreiengemeins
 chaft mit anschl. Beichtgelegenheit (bei Pfarrer Hihler und Pater Thomas) 
 bis 20:00 Uhr
DESCRIPTION:https://pfarreien-bistum-augsburg.df-preview.de/bussgottesdiens
 t-abend-der-versoehnung-fuer-die-pfarreiengemeinschaft-mit-anschl-beichtge
 legenheit-bei-pfarrer-hihler-und-pater-thomas-bis-20-00-uhr_id1695526
DTSTART;TZID=Europe/Berlin:20260327T183000
DURATION:PT30M
LOCATION:St. Wolfgang
END:VEVENT
END:VCALENDAR
