BEGIN:VCALENDAR
VERSION:2.0
PRODID:-//Sabre//Sabre VObject 4.5.8//EN
CALSCALE:GREGORIAN
BEGIN:VEVENT
UID:sabre-vobject-f422627c-6d40-4aa8-9d0c-2cfa76d5f6da
DTSTAMP:20260424T193517Z
SUMMARY:Heilige Messe
DESCRIPTION:https://pfarreien-bistum-augsburg.df-preview.de/heilige-messe_i
 d1695482
DTSTART;TZID=Europe/Berlin:20260318T090000
DURATION:PT30M
LOCATION:St. Pankratius
END:VEVENT
END:VCALENDAR
