BEGIN:VCALENDAR
VERSION:2.0
PRODID:-//Sabre//Sabre VObject 4.5.8//EN
CALSCALE:GREGORIAN
BEGIN:VEVENT
UID:sabre-vobject-0fb6b250-7ab0-4a38-b6e5-918a8f1059cb
DTSTAMP:20260424T130918Z
SUMMARY:Rosenkranzgebet für Frieden und Gerechtigkeit
DESCRIPTION:https://pfarreien-bistum-augsburg.df-preview.de/rosenkranzgebet
 -fuer-frieden-und-gerechtigkeit_id1695453
DTSTART;TZID=Europe/Berlin:20260318T180000
DURATION:PT30M
LOCATION:St. Pankratius
END:VEVENT
END:VCALENDAR
