BEGIN:VCALENDAR
VERSION:2.0
PRODID:-//Sabre//Sabre VObject 4.5.8//EN
CALSCALE:GREGORIAN
BEGIN:VEVENT
UID:sabre-vobject-87343e93-4c43-47e3-87fc-d9976b9a264d
DTSTAMP:20260423T022248Z
SUMMARY:Entfällt - Rosenkranz
DESCRIPTION:https://pfarreien-bistum-augsburg.df-preview.de/entfaellt-rosen
 kranz_id1695444
DTSTART;TZID=Europe/Berlin:20260405T172000
DURATION:PT30M
LOCATION:St. Peter und Paul
END:VEVENT
END:VCALENDAR
