BEGIN:VCALENDAR
VERSION:2.0
PRODID:-//Sabre//Sabre VObject 4.5.8//EN
CALSCALE:GREGORIAN
BEGIN:VEVENT
UID:sabre-vobject-c7cd9178-adc2-4a51-9e25-7f0a72713821
DTSTAMP:20260423T034940Z
SUMMARY:Heilige Messe mit Speisensegnung\, es singt der Kirchenchor Oberhau
 sen Messe brève No. 7 "aux chapelles" von Charles Gounod
DESCRIPTION:https://pfarreien-bistum-augsburg.df-preview.de/heilige-messe-m
 it-speisensegnung-es-singt-der-kirchenchor-oberhausen-messe-breve-no-7-aux
 -chapelles-von-charles-gounod_id1695443
DTSTART;TZID=Europe/Berlin:20260405T103000
DURATION:PT30M
LOCATION:St. Peter und Paul
END:VEVENT
END:VCALENDAR
