BEGIN:VCALENDAR
VERSION:2.0
PRODID:-//Sabre//Sabre VObject 4.5.8//EN
CALSCALE:GREGORIAN
BEGIN:VEVENT
UID:sabre-vobject-d699fe4b-8317-4f95-b97c-26a7d3628d35
DTSTAMP:20260423T021525Z
SUMMARY:Entfällt: Rosenkranz
DESCRIPTION:https://pfarreien-bistum-augsburg.df-preview.de/entfaellt-rosen
 kranz_id1695380
DTSTART;TZID=Europe/Berlin:20260329T173000
DURATION:PT30M
LOCATION:St. Michael\, Hauptstraße 38\, 86480 Aletshausen Winzer
END:VEVENT
END:VCALENDAR
