BEGIN:VCALENDAR
VERSION:2.0
PRODID:-//Sabre//Sabre VObject 4.5.8//EN
CALSCALE:GREGORIAN
BEGIN:VEVENT
UID:sabre-vobject-7f506294-d72e-411d-91b0-bc1c0904a47f
DTSTAMP:20260422T191410Z
SUMMARY:Palmprozession mit Festgottesdienst
DESCRIPTION:https://pfarreien-bistum-augsburg.df-preview.de/palmprozession-
 mit-festgottesdienst_id1695328
DTSTART;TZID=Europe/Berlin:20260329T101500
DURATION:PT30M
LOCATION:St. Agatha
END:VEVENT
END:VCALENDAR
