BEGIN:VCALENDAR
VERSION:2.0
PRODID:-//Sabre//Sabre VObject 4.5.8//EN
CALSCALE:GREGORIAN
BEGIN:VEVENT
UID:sabre-vobject-05f6d3a3-7774-4a1d-84c5-445f91c90789
DTSTAMP:20260422T192352Z
SUMMARY:Messfeier
DESCRIPTION:https://pfarreien-bistum-augsburg.df-preview.de/messfeier_id169
 5327
DTSTART;TZID=Europe/Berlin:20260324T191500
DURATION:PT30M
LOCATION:St. Agatha
END:VEVENT
END:VCALENDAR
