BEGIN:VCALENDAR
VERSION:2.0
PRODID:-//Sabre//Sabre VObject 4.5.8//EN
CALSCALE:GREGORIAN
BEGIN:VEVENT
UID:sabre-vobject-8a419c57-d59a-4abb-989d-9f298a0511d8
DTSTAMP:20260422T084934Z
SUMMARY:"Komm zu Jesus" Stille Anbetung bis 21 Uhr
DESCRIPTION:https://pfarreien-bistum-augsburg.df-preview.de/komm-zu-jesus-s
 tille-anbetung-bis-21-uhr_id1695310
DTSTART;TZID=Europe/Berlin:20260406T160000
DURATION:PT30M
LOCATION:Basilica minor St. Alexander und Theodor
END:VEVENT
END:VCALENDAR
