BEGIN:VCALENDAR
VERSION:2.0
PRODID:-//Sabre//Sabre VObject 4.5.8//EN
CALSCALE:GREGORIAN
BEGIN:VEVENT
UID:sabre-vobject-24a64bc0-6f3f-4ede-befb-33ce031ff981
DTSTAMP:20260421T003322Z
SUMMARY:Novene zum Barmherzigen Jesus
DESCRIPTION:https://pfarreien-bistum-augsburg.df-preview.de/novene-zum-barm
 herzigen-jesus_id1695281
DTSTART;TZID=Europe/Berlin:20260407T180000
DURATION:PT30M
LOCATION:Basilica minor St. Alexander und Theodor
END:VEVENT
END:VCALENDAR
