BEGIN:VCALENDAR
VERSION:2.0
PRODID:-//Sabre//Sabre VObject 4.5.8//EN
CALSCALE:GREGORIAN
BEGIN:VEVENT
UID:sabre-vobject-61b4c5a8-7650-4e0b-8c85-cb3dd642960e
DTSTAMP:20260421T184245Z
SUMMARY:"Komm zu Jesus" Stille Anbetung durchgehend bis Mittwoch 22 Uhr
DESCRIPTION:https://pfarreien-bistum-augsburg.df-preview.de/komm-zu-jesus-s
 tille-anbetung-durchgehend-bis-mittwoch-22-uhr_id1695278
DTSTART;TZID=Europe/Berlin:20260407T090000
DURATION:PT30M
LOCATION:Basilica minor St. Alexander und Theodor
END:VEVENT
END:VCALENDAR
