BEGIN:VCALENDAR
VERSION:2.0
PRODID:-//Sabre//Sabre VObject 4.5.8//EN
CALSCALE:GREGORIAN
BEGIN:VEVENT
UID:sabre-vobject-5ac686f2-c491-4045-91b0-b0a9dfaa518a
DTSTAMP:20260420T224549Z
SUMMARY:"Komm zu Jesus" Stille Anbetung bis 23 Uhr
DESCRIPTION:https://pfarreien-bistum-augsburg.df-preview.de/komm-zu-jesus-s
 tille-anbetung-bis-23-uhr_id1695252
DTSTART;TZID=Europe/Berlin:20260423T150000
DURATION:PT30M
LOCATION:Basilica minor St. Alexander und Theodor
END:VEVENT
END:VCALENDAR
