BEGIN:VCALENDAR
VERSION:2.0
PRODID:-//Sabre//Sabre VObject 4.5.8//EN
CALSCALE:GREGORIAN
BEGIN:VEVENT
UID:sabre-vobject-d2c9f4df-220f-4b5b-980f-6d7686687f35
DTSTAMP:20260420T210238Z
SUMMARY:Messfeier
DESCRIPTION:https://pfarreien-bistum-augsburg.df-preview.de/messfeier_id169
 5251
DTSTART;TZID=Europe/Berlin:20260423T080000
DURATION:PT30M
LOCATION:Basilica minor St. Alexander und Theodor
END:VEVENT
END:VCALENDAR
