BEGIN:VCALENDAR
VERSION:2.0
PRODID:-//Sabre//Sabre VObject 4.5.8//EN
CALSCALE:GREGORIAN
BEGIN:VEVENT
UID:sabre-vobject-7eb58039-7f98-4fb9-a708-77e982bd45df
DTSTAMP:20260421T172729Z
SUMMARY:Eucharistische Anbetung mit Lobpreis und Gebet
DESCRIPTION:https://pfarreien-bistum-augsburg.df-preview.de/eucharistische-
 anbetung-mit-lobpreis-und-gebet_id1695212
DTSTART;TZID=Europe/Berlin:20260417T183000
DURATION:PT30M
LOCATION:Basilica minor St. Alexander und Theodor
END:VEVENT
END:VCALENDAR
