BEGIN:VCALENDAR
VERSION:2.0
PRODID:-//Sabre//Sabre VObject 4.5.8//EN
CALSCALE:GREGORIAN
BEGIN:VEVENT
UID:sabre-vobject-53a37f30-50ec-4556-ad4d-83b44ca7e680
DTSTAMP:20260425T174744Z
SUMMARY:Pfarr- und Wallfahrtsgottesdienst mit Segnung der Palmzweige\, Hl. 
 Messe für die Lebenden u. Verstorbenen der Pfarreiengemeinschaft
DESCRIPTION:https://pfarreien-bistum-augsburg.df-preview.de/pfarr-und-wallf
 ahrtsgottesdienst-mit-segnung-der-palmzweige-hl-messe-fuer-die-lebenden-u-
 verstorbenen-der-pfarreiengemeinschaft_id1695157
DTSTART;TZID=Europe/Berlin:20260329T100000
DURATION:PT30M
LOCATION:St. Michael\, Pius-Mozet-Straße 4\, 86450 Violau
END:VEVENT
END:VCALENDAR
