BEGIN:VCALENDAR
VERSION:2.0
PRODID:-//Sabre//Sabre VObject 4.5.8//EN
CALSCALE:GREGORIAN
BEGIN:VEVENT
UID:sabre-vobject-a6ca74a7-ae09-4ecf-816e-b3cc3e7d6247
DTSTAMP:20260424T182251Z
SUMMARY:Hochamt\, Speisenweihe
DESCRIPTION:https://pfarreien-bistum-augsburg.df-preview.de/hochamt-speisen
 weihe_id1695082
DTSTART;TZID=Europe/Berlin:20260405T090000
DURATION:PT30M
LOCATION:St. Georg
END:VEVENT
END:VCALENDAR
