BEGIN:VCALENDAR
VERSION:2.0
PRODID:-//Sabre//Sabre VObject 4.5.8//EN
CALSCALE:GREGORIAN
BEGIN:VEVENT
UID:sabre-vobject-3a8d1c6c-af8c-43f2-9319-7ef7da12bae1
DTSTAMP:20260424T214235Z
SUMMARY:Karfreitagsliturgie\, anschl. Stille Anbetung am Hl. Grab bis 20 Uh
 r
DESCRIPTION:https://pfarreien-bistum-augsburg.df-preview.de/karfreitagslitu
 rgie-anschl-stille-anbetung-am-hl-grab-bis-20-uhr_id1695064
DTSTART;TZID=Europe/Berlin:20260403T140000
DURATION:PT30M
LOCATION:St. Georg
END:VEVENT
END:VCALENDAR
