BEGIN:VCALENDAR
VERSION:2.0
PRODID:-//Sabre//Sabre VObject 4.5.8//EN
CALSCALE:GREGORIAN
BEGIN:VEVENT
UID:sabre-vobject-ef4b447c-a430-4534-9251-55dbc2487fb0
DTSTAMP:20260422T073356Z
SUMMARY:Segnung der Palmzweige\, anschl. Prozession zur Pfarrkirche (bei sc
 hlechter Witterung in der Pfarrkirche)
DESCRIPTION:https://pfarreien-bistum-augsburg.df-preview.de/segnung-der-pal
 mzweige-anschl-prozession-zur-pfarrkirche-bei-schlechter-witterung-in-der-
 pfarrkirche_id1695020
DTSTART;TZID=Europe/Berlin:20260329T100000
DURATION:PT30M
LOCATION:St. Michael
END:VEVENT
END:VCALENDAR
