BEGIN:VCALENDAR
VERSION:2.0
PRODID:-//Sabre//Sabre VObject 4.5.8//EN
CALSCALE:GREGORIAN
BEGIN:VEVENT
UID:sabre-vobject-7638669b-c93b-415e-9936-1592544b78ba
DTSTAMP:20260423T172630Z
SUMMARY:Vorabendmesse in der Fachklinik
DESCRIPTION:https://pfarreien-bistum-augsburg.df-preview.de/vorabendmesse-i
 n-der-fachklinik_id1694986
DTSTART;TZID=Europe/Berlin:20260425T190000
DURATION:PT30M
LOCATION:St. Kilian
END:VEVENT
END:VCALENDAR
