BEGIN:VCALENDAR
VERSION:2.0
PRODID:-//Sabre//Sabre VObject 4.5.8//EN
CALSCALE:GREGORIAN
BEGIN:VEVENT
UID:sabre-vobject-0317ded7-c6e3-4838-9db2-124fde38f7ad
DTSTAMP:20260422T103010Z
SUMMARY:Heilige Messe
DESCRIPTION:https://pfarreien-bistum-augsburg.df-preview.de/heilige-messe_i
 d1694927
DTSTART;TZID=Europe/Berlin:20260329T073000
DURATION:PT30M
LOCATION:St. Michael
END:VEVENT
END:VCALENDAR
