BEGIN:VCALENDAR
VERSION:2.0
PRODID:-//Sabre//Sabre VObject 4.5.8//EN
CALSCALE:GREGORIAN
BEGIN:VEVENT
UID:sabre-vobject-89f283d2-2682-4267-8e0d-aee50fcd9ba1
DTSTAMP:20260421T033218Z
SUMMARY:Aufstellung und Kirchenzug
DESCRIPTION:https://pfarreien-bistum-augsburg.df-preview.de/aufstellung-und
 -kirchenzug_id1694758
DTSTART;TZID=Europe/Berlin:20260503T093000
DURATION:PT30M
LOCATION:St. Michael\, Pius-Mozet-Straße 4\, 86450 Violau
END:VEVENT
END:VCALENDAR
