BEGIN:VCALENDAR
VERSION:2.0
PRODID:-//Sabre//Sabre VObject 4.5.8//EN
CALSCALE:GREGORIAN
BEGIN:VEVENT
UID:sabre-vobject-b285c1e1-db87-4fbf-b537-66f3a3c9aa31
DTSTAMP:20260425T022807Z
SUMMARY:Ministrantenprobe zur Osternacht
DESCRIPTION:https://pfarreien-bistum-augsburg.df-preview.de/ministrantenpro
 be-zur-osternacht_id1694624
DTSTART;TZID=Europe/Berlin:20260404T163000
DURATION:PT30M
LOCATION:St. Georg
END:VEVENT
END:VCALENDAR
