BEGIN:VCALENDAR
VERSION:2.0
PRODID:-//Sabre//Sabre VObject 4.5.8//EN
CALSCALE:GREGORIAN
BEGIN:VEVENT
UID:sabre-vobject-e6715a97-4e5a-4fba-8c84-5678df1f1841
DTSTAMP:20260422T180312Z
SUMMARY:Taufe
DESCRIPTION:https://pfarreien-bistum-augsburg.df-preview.de/taufe_id1694551
DTSTART;TZID=Europe/Berlin:20260412T140000
DURATION:PT30M
LOCATION:St. Michael\, Pius-Mozet-Straße 4\, 86450 Violau
END:VEVENT
END:VCALENDAR
