BEGIN:VCALENDAR
VERSION:2.0
PRODID:-//Sabre//Sabre VObject 4.5.8//EN
CALSCALE:GREGORIAN
BEGIN:VEVENT
UID:sabre-vobject-692cef81-e972-43ea-b73a-66ae5b4d7234
DTSTAMP:20260423T211654Z
SUMMARY:Heilige Messe
DESCRIPTION:https://pfarreien-bistum-augsburg.df-preview.de/heilige-messe_i
 d1694518
DTSTART;TZID=Europe/Berlin:20260409T083000
DURATION:PT30M
LOCATION:St. Konrad
END:VEVENT
END:VCALENDAR
