BEGIN:VCALENDAR
VERSION:2.0
PRODID:-//Sabre//Sabre VObject 4.5.8//EN
CALSCALE:GREGORIAN
BEGIN:VEVENT
UID:sabre-vobject-77897f33-f79d-49fc-8b0c-574565c94de6
DTSTAMP:20260423T001824Z
SUMMARY:Pilgermesse am Gnadenaltar
DESCRIPTION:https://pfarreien-bistum-augsburg.df-preview.de/pilgermesse-am-
 gnadenaltar_id1694513
DTSTART;TZID=Europe/Berlin:20260408T090000
DURATION:PT30M
LOCATION:St. Michael\, Pius-Mozet-Straße 4\, 86450 Violau
END:VEVENT
END:VCALENDAR
