BEGIN:VCALENDAR
VERSION:2.0
PRODID:-//Sabre//Sabre VObject 4.5.8//EN
CALSCALE:GREGORIAN
BEGIN:VEVENT
UID:sabre-vobject-ab9c555b-b7a9-473c-bead-28f6a30e7ca4
DTSTAMP:20260423T033212Z
SUMMARY:Emmausgang rund um Violau\, Beginn vor dem Pfarrheim
DESCRIPTION:https://pfarreien-bistum-augsburg.df-preview.de/emmausgang-rund
 -um-violau-beginn-vor-dem-pfarrheim_id1694511
DTSTART;TZID=Europe/Berlin:20260406T140000
DURATION:PT30M
LOCATION:St. Michael\, Pius-Mozet-Straße 4\, 86450 Violau
END:VEVENT
END:VCALENDAR
