BEGIN:VCALENDAR
VERSION:2.0
PRODID:-//Sabre//Sabre VObject 4.5.8//EN
CALSCALE:GREGORIAN
BEGIN:VEVENT
UID:sabre-vobject-7aa4fbc3-1c71-479b-9dff-6d70d131ef64
DTSTAMP:20260424T150116Z
SUMMARY:GD der syri.-kath. Gemeinde mit Übertragung in Pfarrsaal
DESCRIPTION:https://pfarreien-bistum-augsburg.df-preview.de/gd-der-syri-kat
 h-gemeinde-mit-uebertragung-in-pfarrsaal_id1694489
DTSTART;TZID=Europe/Berlin:20260405T190000
DURATION:PT30M
LOCATION:St. Joseph
END:VEVENT
END:VCALENDAR
