BEGIN:VCALENDAR
VERSION:2.0
PRODID:-//Sabre//Sabre VObject 4.5.8//EN
CALSCALE:GREGORIAN
BEGIN:VEVENT
UID:sabre-vobject-ca89e48e-7e69-413a-a18a-9ad900fa40c6
DTSTAMP:20260423T044706Z
SUMMARY:Festhochamt mit Segnung der mitgebrachen Speisen\, Hl. Messe für d
 ie Lebenden u. Verstorbenen der Pfarreiengemeinschaft
DESCRIPTION:https://pfarreien-bistum-augsburg.df-preview.de/festhochamt-mit
 -segnung-der-mitgebrachen-speisen-hl-messe-fuer-die-lebenden-u-verstorbene
 n-der-pfarreiengemeinschaft_id1694487
DTSTART;TZID=Europe/Berlin:20260405T100000
DURATION:PT30M
LOCATION:St. Michael\, Pius-Mozet-Straße 4\, 86450 Violau
END:VEVENT
END:VCALENDAR
