BEGIN:VCALENDAR
VERSION:2.0
PRODID:-//Sabre//Sabre VObject 4.5.8//EN
CALSCALE:GREGORIAN
BEGIN:VEVENT
UID:sabre-vobject-e4ae080c-ff02-49f1-810a-a9e3ad01aa1b
DTSTAMP:20260423T100349Z
SUMMARY:Möglichkeit zum Verweilen am Heiligen Grab bis 9:30 Uhr
DESCRIPTION:https://pfarreien-bistum-augsburg.df-preview.de/moeglichkeit-zu
 m-verweilen-am-heiligen-grab-bis-9-30-uhr_id1694451
DTSTART;TZID=Europe/Berlin:20260404T080000
DURATION:PT30M
LOCATION:St. Michael\, Pius-Mozet-Straße 4\, 86450 Violau
END:VEVENT
END:VCALENDAR
