BEGIN:VCALENDAR
VERSION:2.0
PRODID:-//Sabre//Sabre VObject 4.5.8//EN
CALSCALE:GREGORIAN
BEGIN:VEVENT
UID:sabre-vobject-2c885d17-5924-4d23-b0d8-8485619d5b43
DTSTAMP:20260422T140839Z
SUMMARY:Gebetsstunde Mit-/Füreinander
DESCRIPTION:https://pfarreien-bistum-augsburg.df-preview.de/gebetsstunde-mi
 t-fuereinander_id1694422
DTSTART;TZID=Europe/Berlin:20260318T140000
DURATION:PT30M
LOCATION:St. Anton
END:VEVENT
END:VCALENDAR
