BEGIN:VCALENDAR
VERSION:2.0
PRODID:-//Sabre//Sabre VObject 4.5.8//EN
CALSCALE:GREGORIAN
BEGIN:VEVENT
UID:sabre-vobject-89a34437-e711-449c-b8c2-e848fe5d85b5
DTSTAMP:20260422T130157Z
SUMMARY:Hl. Messe anschließend Verkauf von fair gehandelten Waren und Oste
 rkerzen
DESCRIPTION:https://pfarreien-bistum-augsburg.df-preview.de/hl-messe-anschl
 iessend-verkauf-von-fair-gehandelten-waren-und-osterkerzen_id1694414
DTSTART;TZID=Europe/Berlin:20260322T084500
DURATION:PT30M
LOCATION:St. Stephan
END:VEVENT
END:VCALENDAR
