BEGIN:VCALENDAR
VERSION:2.0
PRODID:-//Sabre//Sabre VObject 4.5.8//EN
CALSCALE:GREGORIAN
BEGIN:VEVENT
UID:sabre-vobject-764bcba0-8a33-4249-8fa5-1a5a5f65a3e4
DTSTAMP:20260422T111216Z
SUMMARY:Messe vom Letzten Abendmahl - anschließend Ölbergandacht
DESCRIPTION:https://pfarreien-bistum-augsburg.df-preview.de/messe-vom-letzt
 en-abendmahl-anschliessend-oelbergandacht_id1694271
DTSTART;TZID=Europe/Berlin:20260402T203000
DURATION:PT30M
LOCATION:St. Anna
END:VEVENT
END:VCALENDAR
