BEGIN:VCALENDAR
VERSION:2.0
PRODID:-//Sabre//Sabre VObject 4.5.8//EN
CALSCALE:GREGORIAN
BEGIN:VEVENT
UID:sabre-vobject-9548b326-ca6d-4cd0-a60e-a19177bdd006
DTSTAMP:20260422T222918Z
SUMMARY:Rosenkranz
DESCRIPTION:https://pfarreien-bistum-augsburg.df-preview.de/rosenkranz_id16
 94260
DTSTART;TZID=Europe/Berlin:20260325T163000
DURATION:PT30M
LOCATION:St. Anna
END:VEVENT
END:VCALENDAR
