BEGIN:VCALENDAR
VERSION:2.0
PRODID:-//Sabre//Sabre VObject 4.5.8//EN
CALSCALE:GREGORIAN
BEGIN:VEVENT
UID:sabre-vobject-95687068-eae2-47af-b3a0-e41309b8fffe
DTSTAMP:20260423T054837Z
SUMMARY:Bibelgespräch
DESCRIPTION:https://pfarreien-bistum-augsburg.df-preview.de/bibelgespraech_
 id1694256
DTSTART;TZID=Europe/Berlin:20260323T193000
DURATION:PT30M
LOCATION:St. Anna
END:VEVENT
END:VCALENDAR
