BEGIN:VCALENDAR
VERSION:2.0
PRODID:-//Sabre//Sabre VObject 4.5.8//EN
CALSCALE:GREGORIAN
BEGIN:VEVENT
UID:sabre-vobject-41d69e66-4287-4c42-9945-7b44bb02de3d
DTSTAMP:20260423T044952Z
SUMMARY:Rosenkranz
DESCRIPTION:https://pfarreien-bistum-augsburg.df-preview.de/rosenkranz_id16
 94193
DTSTART;TZID=Europe/Berlin:20260322T093000
DURATION:PT30M
LOCATION:St. Johannes Evang.
END:VEVENT
END:VCALENDAR
