BEGIN:VCALENDAR
VERSION:2.0
PRODID:-//Sabre//Sabre VObject 4.5.8//EN
CALSCALE:GREGORIAN
BEGIN:VEVENT
UID:sabre-vobject-5c9c73a0-efd8-42ee-b101-8dc123821f4a
DTSTAMP:20260420T184002Z
SUMMARY:Vorabendmesse\, Heilige Messe
DESCRIPTION:https://pfarreien-bistum-augsburg.df-preview.de/vorabendmesse-h
 eilige-messe_id1694185
DTSTART;TZID=Europe/Berlin:20260321T190000
DURATION:PT30M
LOCATION:St. Stephan
END:VEVENT
END:VCALENDAR
