BEGIN:VCALENDAR
VERSION:2.0
PRODID:-//Sabre//Sabre VObject 4.5.8//EN
CALSCALE:GREGORIAN
BEGIN:VEVENT
UID:sabre-vobject-90a894af-a99f-4525-a5d2-fc326e0dfda2
DTSTAMP:20260421T021423Z
SUMMARY:- 19:15 Beichtgelegenheit
DESCRIPTION:https://pfarreien-bistum-augsburg.df-preview.de/19-15-beichtgel
 egenheit_id1694107
DTSTART;TZID=Europe/Berlin:20260321T183000
DURATION:PT30M
LOCATION:Wallfahrtsdirektion Mariä Schmerzen
END:VEVENT
END:VCALENDAR
