BEGIN:VCALENDAR
VERSION:2.0
PRODID:-//Sabre//Sabre VObject 4.5.8//EN
CALSCALE:GREGORIAN
BEGIN:VEVENT
UID:sabre-vobject-9801bef6-9d38-4a07-b339-403aa7edc3fd
DTSTAMP:20260422T034710Z
SUMMARY:Altkleidersammlung der "Aktion Hoffnung"\; Abgabe von 9.00 Uhr bis 
 11.00 Uhr im Lagerhaus bei der Raiffeisenbank
DESCRIPTION:https://pfarreien-bistum-augsburg.df-preview.de/altkleidersamml
 ung-der-aktion-hoffnung-abgabe-von-9-00-uhr-bis-11-00-uhr-im-lagerhaus-bei
 -der-raiffeisenbank_id1694058
DTSTART;TZID=Europe/Berlin:20260321T090000
DURATION:PT30M
LOCATION:Mariä Himmelfahrt
END:VEVENT
END:VCALENDAR
