BEGIN:VCALENDAR
VERSION:2.0
PRODID:-//Sabre//Sabre VObject 4.5.8//EN
CALSCALE:GREGORIAN
BEGIN:VEVENT
UID:sabre-vobject-04b959c7-bb6a-4c0d-8e4a-f03f8c81f8c7
DTSTAMP:20260423T022254Z
SUMMARY:Josefsbruderschaft\; Heilige Messe
DESCRIPTION:https://pfarreien-bistum-augsburg.df-preview.de/josefsbrudersch
 aft-heilige-messe_id1694044
DTSTART;TZID=Europe/Berlin:20260322T104500
DURATION:PT30M
LOCATION:St. Margareta
END:VEVENT
END:VCALENDAR
