BEGIN:VCALENDAR
VERSION:2.0
PRODID:-//Sabre//Sabre VObject 4.5.8//EN
CALSCALE:GREGORIAN
BEGIN:VEVENT
UID:sabre-vobject-c09c5a5e-66ca-4a3b-8efd-8ed9c81b95bd
DTSTAMP:20260424T121745Z
SUMMARY:Nightfever  in der Basilika - offene Anbetung mit junger Musik - be
 i Kerzenschein verschiedene Gebetsformen und Musikbands erleben - anschlie
 ßende Beichtgelegenheit
DESCRIPTION:https://pfarreien-bistum-augsburg.df-preview.de/nightfever-in-d
 er-basilika-offene-anbetung-mit-junger-musik-bei-kerzenschein-verschiedene
 -gebetsformen-und-musikbands-erleben-anschliessende-beichtgelegenheit_id16
 94038
DTSTART;TZID=Europe/Berlin:20260321T183000
DURATION:PT30M
LOCATION:Basilika minor St. Lorenz\, Hildegardpl.\, 87439 Kempten (Allgäu)
END:VEVENT
END:VCALENDAR
