BEGIN:VCALENDAR
VERSION:2.0
PRODID:-//Sabre//Sabre VObject 4.5.8//EN
CALSCALE:GREGORIAN
BEGIN:VEVENT
UID:sabre-vobject-dec0be22-c946-4491-8ae7-2e3d79d30416
DTSTAMP:20260423T021729Z
SUMMARY:Spirituelle Kirchenführung zu Kreuzesdarstellungen in der Basilika
DESCRIPTION:https://pfarreien-bistum-augsburg.df-preview.de/spirituelle-kir
 chenfuehrung-zu-kreuzesdarstellungen-in-der-basilika_id1693927
DTSTART;TZID=Europe/Berlin:20260322T180000
DURATION:PT30M
LOCATION:Basilika minor St. Lorenz\, Hildegardpl.\, 87439 Kempten (Allgäu)
END:VEVENT
END:VCALENDAR
