BEGIN:VCALENDAR
VERSION:2.0
PRODID:-//Sabre//Sabre VObject 4.5.8//EN
CALSCALE:GREGORIAN
BEGIN:VEVENT
UID:sabre-vobject-82fb7687-d227-4689-bcd4-3e852b479097
DTSTAMP:20260420T162205Z
SUMMARY:Ros.
DESCRIPTION:https://pfarreien-bistum-augsburg.df-preview.de/ros_id1693866
DTSTART;TZID=Europe/Berlin:20260319T160000
DURATION:PT30M
LOCATION:Mariä Himmelfahrt
END:VEVENT
END:VCALENDAR
