BEGIN:VCALENDAR
VERSION:2.0
PRODID:-//Sabre//Sabre VObject 4.5.8//EN
CALSCALE:GREGORIAN
BEGIN:VEVENT
UID:sabre-vobject-7e1c3ce6-4bc1-47b4-b97e-6a4e75b5fbec
DTSTAMP:20260421T112536Z
SUMMARY:Osteramt mit Speisenweihe
DESCRIPTION:https://pfarreien-bistum-augsburg.df-preview.de/osteramt-mit-sp
 eisenweihe_id1693848
DTSTART;TZID=Europe/Berlin:20260405T104500
DURATION:PT30M
LOCATION:Mariä Himmelfahrt
END:VEVENT
END:VCALENDAR
