BEGIN:VCALENDAR
VERSION:2.0
PRODID:-//Sabre//Sabre VObject 4.5.8//EN
CALSCALE:GREGORIAN
BEGIN:VEVENT
UID:sabre-vobject-002f4b9a-faa8-4eba-a8c4-11a9b1684046
DTSTAMP:20260420T210220Z
SUMMARY:Ros.
DESCRIPTION:https://pfarreien-bistum-augsburg.df-preview.de/ros_id1693841
DTSTART;TZID=Europe/Berlin:20260318T172500
DURATION:PT30M
LOCATION:Mariä Himmelfahrt
END:VEVENT
END:VCALENDAR
